BEGIN:VCALENDAR
VERSION:2.0
PRODID:Quicksite
NAME:Calendrier
X-WR-CALNAME:Calendrier
REFRESH-INTERVAL;VALUE=DURATION:PT240M
X-PUBLISHED-TTL:PT240M
BEGIN:VEVENT
UID:69e62fcee8ed3
SUMMARY:Blues au Château de Coppet - Peter Karp
DESCRIPTION:L’association Jazz & Co. a le plaisir de vous faire part du c
 oncert de blues\, americana et rock’n’roll qui se tiendra le samedi 25
 .04.2026 à 20h00 dans les Caves du Château de Coppet.
LOCATION:Caves du Château de Coppet
DTSTART:20260425T180000Z
DTEND:20260425T190000Z
DTSTAMP:20260420T122333Z
END:VEVENT
END:VCALENDAR